BEGIN:VCALENDAR
VERSION:2.0
PRODID:-//NHS Health Inequalities Toolkit - ECPv6.15.20//NONSGML v1.0//EN
CALSCALE:GREGORIAN
METHOD:PUBLISH
X-WR-CALNAME:NHS Health Inequalities Toolkit
X-ORIGINAL-URL:https://westyorkshirehealthinequalities.co.uk
X-WR-CALDESC:Events for NHS Health Inequalities Toolkit
REFRESH-INTERVAL;VALUE=DURATION:PT1H
X-Robots-Tag:noindex
X-PUBLISHED-TTL:PT1H
BEGIN:VTIMEZONE
TZID:UTC
BEGIN:STANDARD
TZOFFSETFROM:+0000
TZOFFSETTO:+0000
TZNAME:UTC
DTSTART:20220101T000000
END:STANDARD
END:VTIMEZONE
BEGIN:VEVENT
DTSTART;TZID=UTC:20230719T140000
DTEND;TZID=UTC:20230719T160000
DTSTAMP:20260420T183823
CREATED:20230616T145721Z
LAST-MODIFIED:20230616T145721Z
UID:2978-1689775200-1689782400@westyorkshirehealthinequalities.co.uk
SUMMARY:West Yorkshire Prevention Network
DESCRIPTION:
URL:https://westyorkshirehealthinequalities.co.uk/events/west-yorkshire-prevention-network/
END:VEVENT
BEGIN:VEVENT
DTSTART;VALUE=DATE:20230718
DTEND;VALUE=DATE:20230719
DTSTAMP:20260420T183823
CREATED:20230510T110034Z
LAST-MODIFIED:20230512T083756Z
UID:2251-1689638400-1689724799@westyorkshirehealthinequalities.co.uk
SUMMARY:HI Network Update
DESCRIPTION:Content goes here
URL:https://westyorkshirehealthinequalities.co.uk/events/meeting/
LOCATION:NHS\, 105 Victoria St\, London\, London\, SW1E 6QT\, United Kingdom
ATTACH;FMTTYPE=image/png:https://westyorkshirehealthinequalities.co.uk/wp-content/uploads/2023/04/group.png
END:VEVENT
BEGIN:VEVENT
DTSTART;TZID=UTC:20230713T150000
DTEND;TZID=UTC:20230713T170000
DTSTAMP:20260420T183823
CREATED:20230616T145651Z
LAST-MODIFIED:20230616T145651Z
UID:2976-1689260400-1689267600@westyorkshirehealthinequalities.co.uk
SUMMARY:Improving Population Health Programme Board
DESCRIPTION:
URL:https://westyorkshirehealthinequalities.co.uk/events/improving-population-health-programme-board/
END:VEVENT
BEGIN:VEVENT
DTSTART;TZID=UTC:20230712T103000
DTEND;TZID=UTC:20230712T120000
DTSTAMP:20260420T183823
CREATED:20230616T145052Z
LAST-MODIFIED:20230616T145052Z
UID:2970-1689157800-1689163200@westyorkshirehealthinequalities.co.uk
SUMMARY:Community of Practice – Migrant Health
DESCRIPTION:
URL:https://westyorkshirehealthinequalities.co.uk/events/community-of-practice-migrant-health/
END:VEVENT
BEGIN:VEVENT
DTSTART;TZID=UTC:20230711T150000
DTEND;TZID=UTC:20230711T163000
DTSTAMP:20260420T183823
CREATED:20230616T145510Z
LAST-MODIFIED:20230616T145510Z
UID:2974-1689087600-1689093000@westyorkshirehealthinequalities.co.uk
SUMMARY:Health Inequalities Vaccination meetings
DESCRIPTION:
URL:https://westyorkshirehealthinequalities.co.uk/events/health-inequalities-vaccination-meetings/
END:VEVENT
END:VCALENDAR